BEGIN:VCALENDAR
VERSION:2.0
PRODID:-//wortGEwaltig - ECPv6.15.13//NONSGML v1.0//EN
CALSCALE:GREGORIAN
METHOD:PUBLISH
X-ORIGINAL-URL:http://wortgewaltig-ge.de
X-WR-CALDESC:Veranstaltungen für wortGEwaltig
REFRESH-INTERVAL;VALUE=DURATION:PT1H
X-Robots-Tag:noindex
X-PUBLISHED-TTL:PT1H
BEGIN:VTIMEZONE
TZID:Europe/Berlin
BEGIN:DAYLIGHT
TZOFFSETFROM:+0100
TZOFFSETTO:+0200
TZNAME:CEST
DTSTART:20230326T010000
END:DAYLIGHT
BEGIN:STANDARD
TZOFFSETFROM:+0200
TZOFFSETTO:+0100
TZNAME:CET
DTSTART:20231029T010000
END:STANDARD
BEGIN:DAYLIGHT
TZOFFSETFROM:+0100
TZOFFSETTO:+0200
TZNAME:CEST
DTSTART:20240331T010000
END:DAYLIGHT
BEGIN:STANDARD
TZOFFSETFROM:+0200
TZOFFSETTO:+0100
TZNAME:CET
DTSTART:20241027T010000
END:STANDARD
BEGIN:DAYLIGHT
TZOFFSETFROM:+0100
TZOFFSETTO:+0200
TZNAME:CEST
DTSTART:20250330T010000
END:DAYLIGHT
BEGIN:STANDARD
TZOFFSETFROM:+0200
TZOFFSETTO:+0100
TZNAME:CET
DTSTART:20251026T010000
END:STANDARD
END:VTIMEZONE
BEGIN:VEVENT
DTSTART;TZID=Europe/Berlin:20241123T190000
DTEND;TZID=Europe/Berlin:20241123T210000
DTSTAMP:20260424T072150
CREATED:20241123T125231Z
LAST-MODIFIED:20241123T125824Z
UID:761-1732388400-1732395600@wortgewaltig-ge.de
SUMMARY:Happy Poetry
DESCRIPTION:Happy Poetry gegen alles Schlechte in der Welt. 🙂 Eintritt frei! \n\n\n\nOrt: Spunk\, Festweg 21\, 45886 Gelsenkirchen
URL:http://wortgewaltig-ge.de/event/happy-poetry/
END:VEVENT
END:VCALENDAR